BEGIN:VCALENDAR
VERSION:2.0
PRODID:-//ChamberMaster//Event Calendar 2.0//EN
METHOD:PUBLISH
X-PUBLISHED-TTL:P3D
REFRESH-INTERVAL:P3D
CALSCALE:GREGORIAN
BEGIN:VEVENT
DTSTART:20240410T210000Z
DTEND:20240410T210000Z
X-MICROSOFT-CDO-ALLDAYEVENT:FALSE
SUMMARY:Small Fries
DESCRIPTION:Small Fries: 3 years- Kindergarten\n\nTheme: Happy Duos\n\nPlease call to reserve a spot: 815.538.5142
X-ALT-DESC;FMTTYPE=text/html:Small Fries: 3 years- Kindergarten<br />\nTheme: Happy Duos<br />\nPlease call to reserve a spot: 815.538.5142<br />\n&nbsp\;
LOCATION:Graves-Hume Public Library
UID:e.1338.2131
SEQUENCE:3
DTSTAMP:20260424T222256Z
URL:https://www.mendotachamber.com/events/details/small-fries-2131
END:VEVENT

END:VCALENDAR
